BEGIN:VCALENDAR
VERSION:2.0
PRODID:-//Four Corners Regional Education Cooperative #1 - ECPv6.15.17.1//NONSGML v1.0//EN
CALSCALE:GREGORIAN
METHOD:PUBLISH
X-WR-CALNAME:Four Corners Regional Education Cooperative #1
X-ORIGINAL-URL:https://nmrec1.org
X-WR-CALDESC:Events for Four Corners Regional Education Cooperative #1
REFRESH-INTERVAL;VALUE=DURATION:PT1H
X-Robots-Tag:noindex
X-PUBLISHED-TTL:PT1H
BEGIN:VTIMEZONE
TZID:America/Denver
BEGIN:DAYLIGHT
TZOFFSETFROM:-0700
TZOFFSETTO:-0600
TZNAME:MDT
DTSTART:20230312T090000
END:DAYLIGHT
BEGIN:STANDARD
TZOFFSETFROM:-0600
TZOFFSETTO:-0700
TZNAME:MST
DTSTART:20231105T080000
END:STANDARD
BEGIN:DAYLIGHT
TZOFFSETFROM:-0700
TZOFFSETTO:-0600
TZNAME:MDT
DTSTART:20240310T090000
END:DAYLIGHT
BEGIN:STANDARD
TZOFFSETFROM:-0600
TZOFFSETTO:-0700
TZNAME:MST
DTSTART:20241103T080000
END:STANDARD
BEGIN:DAYLIGHT
TZOFFSETFROM:-0700
TZOFFSETTO:-0600
TZNAME:MDT
DTSTART:20250309T090000
END:DAYLIGHT
BEGIN:STANDARD
TZOFFSETFROM:-0600
TZOFFSETTO:-0700
TZNAME:MST
DTSTART:20251102T080000
END:STANDARD
END:VTIMEZONE
BEGIN:VEVENT
DTSTART;TZID=America/Denver:20240229T173000
DTEND;TZID=America/Denver:20240229T183000
DTSTAMP:20260422T001647
CREATED:20240213T223747Z
LAST-MODIFIED:20240214T210931Z
UID:3713-1709227800-1709231400@nmrec1.org
SUMMARY:Dual Language Community Meeting - Gallup
DESCRIPTION:Our schools support students who speak—or want to learn—their traditional languages. Is this important to you? Come share your ideas about dual language instruction in our schools!\nWe’re working to ensure every student receives the highest-quality education in our K-12 schools. You can help make this happen! \n  \nDown the FLYER!
URL:https://nmrec1.org/event/dual-language-community-meeting-2/
LOCATION:Gallup Community Service Center\, 410 Bataan Veterans St.\, Gallup\, NM\, 87301\, United States
ATTACH;FMTTYPE=image/png:https://nmrec1.org/wp-content/uploads/2024/02/Screenshot-2024-02-13-152044.png
END:VEVENT
BEGIN:VEVENT
DTSTART;VALUE=DATE:20240228
DTEND;VALUE=DATE:20240229
DTSTAMP:20260422T001647
CREATED:20240214T210231Z
LAST-MODIFIED:20240215T185635Z
UID:3723-1709078400-1709164799@nmrec1.org
SUMMARY:First Annual EEDW Gathering 2024
DESCRIPTION:Bridging the Gap for a Strong Digital Workforce! \nDeveloping New Mexico’s IT and technology workforce is of utmost significance\, nurturing a proficient talent pool within our state will sustain its position as a dynamic center for technological advancement and innovation. Cultivating a workforce from local talent promotes a self-sustaining cycle of growth that will benefit the region’s tech economy.\nThis will be an empowering day of discussions and collaboration aimed at strengthening the digital workforce. \nDiscussions will be centered around: \n\nFostering student interest in IT pathways.\nEnrollment strategies and advisement.\nIndustry advisement on creating job-ready graduates.\nStrengthening curricula through real-world applications and industry needs.\nCreating effective communication channels for all stakeholders.
URL:https://nmrec1.org/event/first-annual-eedw-gathering-2024/
ATTACH;FMTTYPE=image/jpeg:https://nmrec1.org/wp-content/uploads/2024/02/Screenshot-2024-02-15-115537.jpg
END:VEVENT
BEGIN:VEVENT
DTSTART;TZID=America/Denver:20240223T090000
DTEND;TZID=America/Denver:20240223T110000
DTSTAMP:20260422T001647
CREATED:20240215T222123Z
LAST-MODIFIED:20240215T224053Z
UID:3782-1708678800-1708686000@nmrec1.org
SUMMARY:Home Visiting Summit Planning Meeting - SJC ECC
DESCRIPTION:If you are a home visitor and would like to help plan this summit\, please come to the meeting.
URL:https://nmrec1.org/event/home-visiting-summit-planning-meeting-sjc-ecc/
LOCATION:Four Corners REC1\, 205 N Auburn\, Farmington\, NM\, 87401\, United States
END:VEVENT
BEGIN:VEVENT
DTSTART;TZID=America/Denver:20240222T173000
DTEND;TZID=America/Denver:20240222T183000
DTSTAMP:20260422T001647
CREATED:20240213T221834Z
LAST-MODIFIED:20240214T183552Z
UID:3693-1708623000-1708626600@nmrec1.org
SUMMARY:Dual Language Community Meeting-Farmington
DESCRIPTION:Our schools support students who speak—or want to learn—their traditional languages. Is this important to you? Come share your ideas about dual language instruction in our schools!\nWe’re working to ensure every student receives the highest-quality education in our K-12 schools. You can help make this happen! \nDownload the flyer
URL:https://nmrec1.org/event/dual-language-community-meeting/
LOCATION:Pancake Alley\, 525 E Broadway\, Farmington\, NM\, 87401\, United States
CATEGORIES:dual language
ATTACH;FMTTYPE=image/png:https://nmrec1.org/wp-content/uploads/2024/02/Screenshot-2024-02-13-152044.png
END:VEVENT
BEGIN:VEVENT
DTSTART;TZID=America/Denver:20240221T120000
DTEND;TZID=America/Denver:20240221T140000
DTSTAMP:20260422T001647
CREATED:20240215T221955Z
LAST-MODIFIED:20240215T221955Z
UID:3779-1708516800-1708524000@nmrec1.org
SUMMARY:SJC Early Childhood Coalition Meeting
DESCRIPTION:
URL:https://nmrec1.org/event/sjc-early-childhood-coalition-meeting/
LOCATION:Four Corners REC1\, 205 N Auburn\, Farmington\, NM\, 87401\, United States
END:VEVENT
BEGIN:VEVENT
DTSTART;TZID=America/Denver:20240221T100000
DTEND;TZID=America/Denver:20240221T110000
DTSTAMP:20260422T001647
CREATED:20240214T204601Z
LAST-MODIFIED:20240214T220714Z
UID:3747-1708509600-1708513200@nmrec1.org
SUMMARY:REC-1 Board Meeting
DESCRIPTION:
URL:https://nmrec1.org/event/rec-1-board-meeting/
LOCATION:Bloomfield Administrative Office\, 325 N Bergin\, Bloomfield\, NM\, 87413\, United States
END:VEVENT
BEGIN:VEVENT
DTSTART;VALUE=DATE:20240219
DTEND;VALUE=DATE:20240220
DTSTAMP:20260422T001647
CREATED:20240214T184435Z
LAST-MODIFIED:20240214T184536Z
UID:3741-1708300800-1708387199@nmrec1.org
SUMMARY:REC-1 Closed for Presidents' Day
DESCRIPTION:
URL:https://nmrec1.org/event/rec-1-closed-presidents-day/
END:VEVENT
BEGIN:VEVENT
DTSTART;TZID=America/Denver:20240217T090000
DTEND;TZID=America/Denver:20240217T160000
DTSTAMP:20260422T001647
CREATED:20240213T223330Z
LAST-MODIFIED:20240214T184743Z
UID:3708-1708160400-1708185600@nmrec1.org
SUMMARY:EdTech Boost Support Session
DESCRIPTION:Via ZOOM or in person. \nRegister here!
URL:https://nmrec1.org/event/edtech-boost-support-session/
LOCATION:Four Corners REC1\, 205 N Auburn\, Farmington\, NM\, 87401\, United States
ATTACH;FMTTYPE=image/jpeg:https://nmrec1.org/wp-content/uploads/2023/11/skills-7894907_1280.jpg
END:VEVENT
END:VCALENDAR